BEGIN:VCALENDAR
VERSION:2.0
PRODID:icalendar-ruby
CALSCALE:GREGORIAN
METHOD:PUBLISH
BEGIN:VEVENT
DTSTAMP:20260424T154907Z
UID:8-881949@myamazingchurch.org
DTSTART:20261101T150000Z
DTEND:20261101T164500Z
CLASS:PUBLIC
CREATED:20260424T095634
DESCRIPTION:
LAST-MODIFIED:20260424T095634
LOCATION:
SUMMARY:Sunday Amazing Worship
URL;VALUE=URI:https://www.myamazingchurch.org/events/sunday-amazing-worship
 /2026-11-01
END:VEVENT
END:VCALENDAR
