BEGIN:VCALENDAR
VERSION:2.0
PRODID:icalendar-ruby
CALSCALE:GREGORIAN
METHOD:PUBLISH
BEGIN:VEVENT
DTSTAMP:20260424T093335Z
UID:8-881145@myamazingchurch.org
DTSTART:20261004T140000Z
DTEND:20261004T154500Z
CLASS:PUBLIC
CREATED:20260423T213423
DESCRIPTION:
LAST-MODIFIED:20260423T213423
LOCATION:
SUMMARY:Sunday Amazing Worship
URL;VALUE=URI:https://www.myamazingchurch.org/events/sunday-amazing-worship
 /2026-10-04
END:VEVENT
END:VCALENDAR
