BEGIN:VCALENDAR
VERSION:2.0
PRODID:icalendar-ruby
CALSCALE:GREGORIAN
METHOD:PUBLISH
BEGIN:VEVENT
DTSTAMP:20260423T201005Z
UID:2-880021@myamazingchurch.org
DTSTART:20260805T223000Z
DTEND:20260805T233000Z
CLASS:PUBLIC
CREATED:20260423T154654
DESCRIPTION:
LAST-MODIFIED:20260423T154654
LOCATION:In-Person
SUMMARY:Amazing Bible Fellowship
URL;VALUE=URI:https://www.myamazingchurch.org/events/amazing-bible-fellowsh
 ip/2026-08-05
ATTACH;FILENAME=Amazing Bible Fellowship.png;FMTTYPE=image/png:https://dq5p
 wpg1q8ru0.cloudfront.net/2025/03/31/17/48/44/37a5d3b2-0cb1-412f-a1e9-63171
 406b1f6/Amazing%20Bible%20Fellowship.png
ATTACH;FILENAME=Join Online.jpg;FMTTYPE=image/jpeg:https://dq5pwpg1q8ru0.cl
 oudfront.net/2021/08/31/11/00/13/97e08455-2e9b-4dbc-8f8e-607278a2b09e/Join
 %20Online.jpg
END:VEVENT
END:VCALENDAR
